BEGIN:VCALENDAR
VERSION:2.0
PRODID:icalendar-ruby
CALSCALE:GREGORIAN
METHOD:PUBLISH
BEGIN:VEVENT
DTSTAMP:20260420T150051Z
UID:164-628328@fbcgautier.org
DTSTART:20260426T210000Z
DTEND:20260426T220000Z
CLASS:PUBLIC
CREATED:20260408T163441
DESCRIPTION:
LAST-MODIFIED:20260408T163441
LOCATION:FBCG Sanctuary
SUMMARY:Quarterly Business Meeting
URL;VALUE=URI:https://www.fbcgautier.org/events/quarterly-business-meeting-
 -164/2026-04-26
ATTACH;FILENAME=Buisness-Meeting.jpeg;FMTTYPE=image/jpeg:https://dq5pwpg1q8
 ru0.cloudfront.net/2026/04/08/21/34/40/39aa7170-c12c-4a3a-bc6c-5b1cd9537c6
 3/Buisness-Meeting.jpeg
END:VEVENT
END:VCALENDAR
