BEGIN:VCALENDAR
VERSION:2.0
PRODID:icalendar-ruby
CALSCALE:GREGORIAN
METHOD:PUBLISH
BEGIN:VEVENT
DTSTAMP:20260420T151949Z
UID:165-628329@fbcgautier.org
DTSTART:20260427T193000Z
DTEND:20260427T223000Z
CLASS:PUBLIC
CREATED:20260408T163633
DESCRIPTION:
LAST-MODIFIED:20260408T163633
LOCATION:Parked in front of Sanctuary
SUMMARY:Blood Drive Bus
URL;VALUE=URI:https://www.fbcgautier.org/events/blood-drive-bus/2026-04-27
ATTACH;FILENAME=Blood-Drive-pic.jpeg;FMTTYPE=image/jpeg:https://dq5pwpg1q8r
 u0.cloudfront.net/2026/04/08/21/36/33/b2bf50c5-7345-469d-9a77-2efb04c71529
 /Blood-Drive-pic.jpeg
END:VEVENT
END:VCALENDAR
