BEGIN:VCALENDAR
VERSION:2.0
PRODID:icalendar-ruby
CALSCALE:GREGORIAN
METHOD:PUBLISH
BEGIN:VEVENT
DTSTAMP:20260422T131332Z
UID:7-673201@fbcgautier.org
DTSTART:20261025T141500Z
DTEND:20261025T151500Z
CLASS:PUBLIC
CREATED:20260422T065441
DESCRIPTION:Bible Study (Sunday School)
LAST-MODIFIED:20260422T065441
LOCATION:First Baptist Church
SUMMARY:Bible Study (Sunday School)
URL;VALUE=URI:https://www.fbcgautier.org/events/bible-study-sunday-school/2
 026-10-25
ATTACH;FILENAME=FzpWW.jpg;FMTTYPE=image/jpeg:https://dq5pwpg1q8ru0.cloudfro
 nt.net/2023/08/15/14/17/17/7a36baa5-8ce5-49db-8b46-aa7d6689f993/FzpWW.jpg
END:VEVENT
END:VCALENDAR
