BEGIN:VCALENDAR
VERSION:2.0
PRODID:icalendar-ruby
CALSCALE:GREGORIAN
METHOD:PUBLISH
BEGIN:VEVENT
DTSTAMP:20260421T182159Z
UID:7-670950@fbcgautier.org
DTSTART:20260809T141500Z
DTEND:20260809T151500Z
CLASS:PUBLIC
CREATED:20260421T115731
DESCRIPTION:Bible Study (Sunday School)
LAST-MODIFIED:20260421T115731
LOCATION:First Baptist Church
SUMMARY:Bible Study (Sunday School)
URL;VALUE=URI:https://www.fbcgautier.org/events/bible-study-sunday-school/2
 026-08-09
ATTACH;FILENAME=FzpWW.jpg;FMTTYPE=image/jpeg:https://dq5pwpg1q8ru0.cloudfro
 nt.net/2023/08/15/14/17/17/7a36baa5-8ce5-49db-8b46-aa7d6689f993/FzpWW.jpg
END:VEVENT
END:VCALENDAR
